BEGIN:VCALENDAR
VERSION:2.0
PRODID:recherche.pantheonsorbonne.fr
X-WR-TIMEZONE:Europe/Paris
BEGIN:VTIMEZONE
TZID:Europe/Paris
X-LIC-LOCATION:Europe/Paris
BEGIN:DAYLIGHT
TZNAME:CEST
TZOFFSETFROM:+0100
TZOFFSETTO:+0200
DTSTART:20260329T010000
END:DAYLIGHT
BEGIN:DAYLIGHT
TZNAME:CEST
TZOFFSETFROM:+0100
TZOFFSETTO:+0200
DTSTART:20270328T010000
END:DAYLIGHT
BEGIN:STANDARD
TZNAME:CET
TZOFFSETFROM:+0200
TZOFFSETTO:+0100
DTSTART:20251026T010000
END:STANDARD
BEGIN:STANDARD
TZNAME:CET
TZOFFSETFROM:+0200
TZOFFSETTO:+0100
DTSTART:20261025T010000
END:STANDARD
END:VTIMEZONE
BEGIN:VEVENT
UID:0a2096098896fb2430065c9ee015078a
DTSTART;TZID=Europe/Paris:20260506T170000
SEQUENCE:0
TRANSP:OPAQUE
URL:https://recherche.pantheonsorbonne.fr/evenements
SUMMARY:Séance écoloBIS avec Denise Pumain
CLASS:PUBLIC
DESCRIPTION:191 rue St Jacques Paris 5e
X-ALT-DESC;FMTTYPE=text/html:191 rue St Jacques Paris 5e\n\n
DTSTAMP:20260423T061037Z
END:VEVENT
END:VCALENDAR